BEGIN:VCALENDAR
VERSION:2.0
PRODID:-//pretix//tickets.fachschaft-wiwi.ms//
BEGIN:VTIMEZONE
TZID:Europe/Berlin
BEGIN:STANDARD
DTSTART:20001029T040000
RRULE:FREQ=YEARLY;BYDAY=-1SU;BYMONTH=10
TZNAME:CET
TZOFFSETFROM:+0200
TZOFFSETTO:+0100
END:STANDARD
BEGIN:DAYLIGHT
DTSTART:20000326T030000
RRULE:FREQ=YEARLY;BYDAY=-1SU;BYMONTH=3
TZNAME:CEST
TZOFFSETFROM:+0100
TZOFFSETTO:+0200
END:DAYLIGHT
END:VTIMEZONE
BEGIN:VEVENT
UID:pretix-fag-wise2425-bwl5-2-0@tickets.fachschaft-wiwi.ms
DTSTART;TZID=Europe/Berlin:20250127T180000
DTEND;TZID=Europe/Berlin:20250131T211500
DESCRIPTION:Tickets: https://tickets.fachschaft-wiwi.ms/fag/wise2425-bwl5-2
 /\nVeranstalter: Wirtschaftswissenschaftliche Ferienarbeitsgemeinschaften 
 e.V.
DTSTAMP:20260425T235422Z
LOCATION:Mo 27.01. 18.00-21.15 H3\, Di 28.01. 18.00-21.15 JUR 4\, Mi 29.01.
  18.00-21.15 JUR 4\, Do 30.01. 18.00-21.15 JUR 4\, Fr 31.01. 18.00-21.15 J
 UR 4
SUMMARY:WiSe24/25_Controlling
END:VEVENT
END:VCALENDAR
