BEGIN:VCALENDAR
VERSION:2.0
PRODID:-//pretix//tickets.fachschaft-wiwi.ms//
BEGIN:VTIMEZONE
TZID:Europe/Berlin
BEGIN:STANDARD
DTSTART:20001029T040000
RRULE:FREQ=YEARLY;BYDAY=-1SU;BYMONTH=10
TZNAME:CET
TZOFFSETFROM:+0200
TZOFFSETTO:+0100
END:STANDARD
BEGIN:DAYLIGHT
DTSTART:20000326T030000
RRULE:FREQ=YEARLY;BYDAY=-1SU;BYMONTH=3
TZNAME:CEST
TZOFFSETFROM:+0100
TZOFFSETTO:+0200
END:DAYLIGHT
END:VTIMEZONE
BEGIN:VEVENT
UID:pretix-fag-wise24-mikro-0@tickets.fachschaft-wiwi.ms
DTSTART;TZID=Europe/Berlin:20240208T180000
DTEND;TZID=Europe/Berlin:20240214T211500
DESCRIPTION:Tickets: https://tickets.fachschaft-wiwi.ms/fag/wise24-mikro/\n
 Veranstalter: Wirtschaftswissenschaftliche Ferienarbeitsgemeinschaften e.V
 .
DTSTAMP:20260426T000242Z
LOCATION:Do 08.02 - H3\, Fr 09.02 - H3\, Mo 12.02 - H3\, Di 13.02 - H3\, Mi
  14.02 - H3\, Jeweils von 18:00 Uhr bis 21:15 Uhr
SUMMARY:WiSe23/24_Mikroökonomik1
END:VEVENT
END:VCALENDAR
