BEGIN:VCALENDAR
VERSION:2.0
PRODID:-//pretix//tickets.fachschaft-wiwi.ms//
BEGIN:VTIMEZONE
TZID:Europe/Berlin
BEGIN:STANDARD
DTSTART:20001029T040000
RRULE:FREQ=YEARLY;BYDAY=-1SU;BYMONTH=10
TZNAME:CET
TZOFFSETFROM:+0200
TZOFFSETTO:+0100
END:STANDARD
BEGIN:DAYLIGHT
DTSTART:20000326T030000
RRULE:FREQ=YEARLY;BYDAY=-1SU;BYMONTH=3
TZNAME:CEST
TZOFFSETFROM:+0100
TZOFFSETTO:+0200
END:DAYLIGHT
END:VTIMEZONE
BEGIN:VEVENT
UID:pretix-fag-wise24-mathe-0@tickets.fachschaft-wiwi.ms
DTSTART;TZID=Europe/Berlin:20240131T180000
DTEND;TZID=Europe/Berlin:20240207T211500
DESCRIPTION:Tickets: https://tickets.fachschaft-wiwi.ms/fag/wise24-mathe/\n
 Veranstalter: Wirtschaftswissenschaftliche Ferienarbeitsgemeinschaften e.V
 .
DTSTAMP:20260425T235853Z
LOCATION:Mi 31.01 - AudiMax\, Do 01.02 - F1\, Mo 05.02 - Sch 121.5\, Di 06.
 02 - Sch 121.5\, Mi 07.02 - Sch 121.5\, Jeweils von 18:00 Uhr bis 21:15 Uh
 r
SUMMARY:WiSe23/24_MathematikfürWiWis
END:VEVENT
END:VCALENDAR
