BEGIN:VCALENDAR
VERSION:2.0
PRODID:-//pretix//tickets.fachschaft-wiwi.ms//
BEGIN:VTIMEZONE
TZID:Europe/Berlin
BEGIN:STANDARD
DTSTART:20001029T040000
RRULE:FREQ=YEARLY;BYDAY=-1SU;BYMONTH=10
TZNAME:CET
TZOFFSETFROM:+0200
TZOFFSETTO:+0100
END:STANDARD
BEGIN:DAYLIGHT
DTSTART:20000326T030000
RRULE:FREQ=YEARLY;BYDAY=-1SU;BYMONTH=3
TZNAME:CEST
TZOFFSETFROM:+0100
TZOFFSETTO:+0200
END:DAYLIGHT
END:VTIMEZONE
BEGIN:VEVENT
UID:pretix-fag-wise24-ds2-0@tickets.fachschaft-wiwi.ms
DTSTART;TZID=Europe/Berlin:20240124T163000
DTEND;TZID=Europe/Berlin:20240130T194500
DESCRIPTION:Tickets: https://tickets.fachschaft-wiwi.ms/fag/wise24-ds2/\nVe
 ranstalter: Wirtschaftswissenschaftliche Ferienarbeitsgemeinschaften e.V.
DTSTAMP:20260426T010642Z
LOCATION:Mi 24.01 - JUR4\, Do 25.01 - H3\, Fr 26.01 - H3\, Mo 29.01 - S2\, 
 Di 30.01 - H3\, Jeweils von 16:30 Uhr bis 19:45 Uhr
SUMMARY:WiSe23/24_DataScience2
END:VEVENT
END:VCALENDAR
