BEGIN:VCALENDAR
VERSION:2.0
PRODID:-//pretix//tickets.fachschaft-wiwi.ms//
BEGIN:VTIMEZONE
TZID:Europe/Berlin
BEGIN:STANDARD
DTSTART:20001029T040000
RRULE:FREQ=YEARLY;BYDAY=-1SU;BYMONTH=10
TZNAME:CET
TZOFFSETFROM:+0200
TZOFFSETTO:+0100
END:STANDARD
BEGIN:DAYLIGHT
DTSTART:20000326T030000
RRULE:FREQ=YEARLY;BYDAY=-1SU;BYMONTH=3
TZNAME:CEST
TZOFFSETFROM:+0100
TZOFFSETTO:+0200
END:DAYLIGHT
END:VTIMEZONE
BEGIN:VEVENT
UID:pretix-fag-wise24-bwl5-0@tickets.fachschaft-wiwi.ms
DTSTART;TZID=Europe/Berlin:20240131T180000
DTEND;TZID=Europe/Berlin:20240206T211500
DESCRIPTION:Tickets: https://tickets.fachschaft-wiwi.ms/fag/wise24-bwl5/\nV
 eranstalter: Wirtschaftswissenschaftliche Ferienarbeitsgemeinschaften e.V.
DTSTAMP:20260425T235103Z
LOCATION:Mi 31.01 - JUR4\, Do 01.02 - JUR4\, Fr 02.02 - JUR4\, Mo 05.02 - A
 udiMax\, Di 06.02 - AudiMax\, Jeweils von 18:00 Uhr bis 21:15 Uhr
SUMMARY:WiSe23/24_Controlling
END:VEVENT
END:VCALENDAR
