BEGIN:VCALENDAR
VERSION:2.0
PRODID:-//pretix//tickets.fachschaft-wiwi.ms//
BEGIN:VTIMEZONE
TZID:Europe/Berlin
BEGIN:STANDARD
DTSTART:20001029T040000
RRULE:FREQ=YEARLY;BYDAY=-1SU;BYMONTH=10
TZNAME:CET
TZOFFSETFROM:+0200
TZOFFSETTO:+0100
END:STANDARD
BEGIN:DAYLIGHT
DTSTART:20000326T030000
RRULE:FREQ=YEARLY;BYDAY=-1SU;BYMONTH=3
TZNAME:CEST
TZOFFSETFROM:+0100
TZOFFSETTO:+0200
END:DAYLIGHT
END:VTIMEZONE
BEGIN:VEVENT
UID:pretix-fag-wise23-datascience1-2-0@tickets.fachschaft-wiwi.ms
DTSTART;TZID=Europe/Berlin:20231127T180000
DTEND;TZID=Europe/Berlin:20231127T211500
DESCRIPTION:Tickets: https://tickets.fachschaft-wiwi.ms/fag/wise23-datascie
 nce1-2/\nVeranstalter: Wirtschaftswissenschaftliche Ferienarbeitsgemeinsch
 aften e.V.
DTSTAMP:20260425T235331Z
LOCATION:Mo 27.11 - SP7\, Di 28.11 - JUR4\, Mi 29.11 - JUR4\, Do 30.11 - JU
 R4
SUMMARY:WiSe23/24_DataScience1
END:VEVENT
END:VCALENDAR
