BEGIN:VCALENDAR
VERSION:2.0
PRODID:-//pretix//tickets.fachschaft-wiwi.ms//
BEGIN:VTIMEZONE
TZID:Europe/Berlin
BEGIN:STANDARD
DTSTART:20001029T040000
RRULE:FREQ=YEARLY;BYDAY=-1SU;BYMONTH=10
TZNAME:CET
TZOFFSETFROM:+0200
TZOFFSETTO:+0100
END:STANDARD
BEGIN:DAYLIGHT
DTSTART:20000326T030000
RRULE:FREQ=YEARLY;BYDAY=-1SU;BYMONTH=3
TZNAME:CEST
TZOFFSETFROM:+0100
TZOFFSETTO:+0200
END:DAYLIGHT
END:VTIMEZONE
BEGIN:VEVENT
UID:pretix-fag-statistik2-0@tickets.fachschaft-wiwi.ms
DTSTART;TZID=Europe/Berlin:20211124T180000
DTEND;TZID=Europe/Berlin:20211124T211500
DESCRIPTION:Tickets: https://tickets.fachschaft-wiwi.ms/fag/statistik2/\nVe
 ranstalter: Wirtschaftswissenschaftliche Ferienarbeitsgemeinschaften e.V.
DTSTAMP:20260426T012255Z
LOCATION:Termin 1-3 (24.11\,25.11\,26.11) im J4. Termin 4-5 (29.11\,30.11) 
 im F5
SUMMARY:FAG - Statistik 2
END:VEVENT
END:VCALENDAR
