BEGIN:VCALENDAR
VERSION:2.0
PRODID:-//pretix//tickets.fachschaft-wiwi.ms//
BEGIN:VTIMEZONE
TZID:Europe/Berlin
BEGIN:STANDARD
DTSTART:20001029T040000
RRULE:FREQ=YEARLY;BYDAY=-1SU;BYMONTH=10
TZNAME:CET
TZOFFSETFROM:+0200
TZOFFSETTO:+0100
END:STANDARD
BEGIN:DAYLIGHT
DTSTART:20000326T030000
RRULE:FREQ=YEARLY;BYDAY=-1SU;BYMONTH=3
TZNAME:CEST
TZOFFSETFROM:+0100
TZOFFSETTO:+0200
END:DAYLIGHT
END:VTIMEZONE
BEGIN:VEVENT
UID:pretix-fag-statistik1-0@tickets.fachschaft-wiwi.ms
DTSTART;TZID=Europe/Berlin:20220131T180000
DTEND;TZID=Europe/Berlin:20220131T214500
DESCRIPTION:Tickets: https://tickets.fachschaft-wiwi.ms/fag/statistik1/\nVe
 ranstalter: Wirtschaftswissenschaftliche Ferienarbeitsgemeinschaften e.V.
DTSTAMP:20260426T023143Z
LOCATION:Alle Termine finden im Fl (Fliednerstraße 21) 39 statt.\, Die FAG
  findet an folgenden Terminen statt: 31.01\,01.02\,02.02\,03.02\,04.02
SUMMARY:FAG - Statistik 1
END:VEVENT
END:VCALENDAR
