BEGIN:VCALENDAR
VERSION:2.0
PRODID:-//pretix//tickets.fachschaft-wiwi.ms//
BEGIN:VTIMEZONE
TZID:Europe/Berlin
BEGIN:STANDARD
DTSTART:20001029T040000
RRULE:FREQ=YEARLY;BYDAY=-1SU;BYMONTH=10
TZNAME:CET
TZOFFSETFROM:+0200
TZOFFSETTO:+0100
END:STANDARD
BEGIN:DAYLIGHT
DTSTART:20000326T030000
RRULE:FREQ=YEARLY;BYDAY=-1SU;BYMONTH=3
TZNAME:CEST
TZOFFSETFROM:+0100
TZOFFSETTO:+0200
END:DAYLIGHT
END:VTIMEZONE
BEGIN:VEVENT
UID:pretix-fag-sose24-DS1-3-0@tickets.fachschaft-wiwi.ms
DTSTART;TZID=Europe/Berlin:20241125T180000
DTEND;TZID=Europe/Berlin:20241129T211500
DESCRIPTION:Tickets: https://tickets.fachschaft-wiwi.ms/fag/sose24-DS1-3/\n
 Veranstalter: Wirtschaftswissenschaftliche Ferienarbeitsgemeinschaften e.V
 .
DTSTAMP:20260426T000344Z
SUMMARY:WS24- Data Science 1
END:VEVENT
END:VCALENDAR
