BEGIN:VCALENDAR
VERSION:2.0
PRODID:-//pretix//tickets.fachschaft-wiwi.ms//
BEGIN:VTIMEZONE
TZID:Europe/Berlin
BEGIN:STANDARD
DTSTART:20001029T040000
RRULE:FREQ=YEARLY;BYDAY=-1SU;BYMONTH=10
TZNAME:CET
TZOFFSETFROM:+0200
TZOFFSETTO:+0100
END:STANDARD
BEGIN:DAYLIGHT
DTSTART:20000326T030000
RRULE:FREQ=YEARLY;BYDAY=-1SU;BYMONTH=3
TZNAME:CEST
TZOFFSETFROM:+0100
TZOFFSETTO:+0200
END:DAYLIGHT
END:VTIMEZONE
BEGIN:VEVENT
UID:pretix-fag-sose23-bwl2-0@tickets.fachschaft-wiwi.ms
DTSTART;TZID=Europe/Berlin:20230705T180000
DTEND;TZID=Europe/Berlin:20230710T211500
DESCRIPTION:Tickets: https://tickets.fachschaft-wiwi.ms/fag/sose23-bwl2/\nV
 eranstalter: Wirtschaftswissenschaftliche Ferienarbeitsgemeinschaften e.V.
DTSTAMP:20260426T000330Z
LOCATION:Mi 05.07 - JUR4\, Do 06.07 - S8\, Fr 07.07 - JUR4\, Mo 17.07 - Aud
 i Max\, Di 18.07 - Audi Max
SUMMARY:SS23 - BWL 2
END:VEVENT
END:VCALENDAR
