BEGIN:VCALENDAR
VERSION:2.0
PRODID:-//pretix//tickets.fachschaft-wiwi.ms//
BEGIN:VTIMEZONE
TZID:Europe/Berlin
BEGIN:STANDARD
DTSTART:20001029T040000
RRULE:FREQ=YEARLY;BYDAY=-1SU;BYMONTH=10
TZNAME:CET
TZOFFSETFROM:+0200
TZOFFSETTO:+0100
END:STANDARD
BEGIN:DAYLIGHT
DTSTART:20000326T030000
RRULE:FREQ=YEARLY;BYDAY=-1SU;BYMONTH=3
TZNAME:CEST
TZOFFSETFROM:+0100
TZOFFSETTO:+0200
END:DAYLIGHT
END:VTIMEZONE
BEGIN:VEVENT
UID:pretix-fag-sose22-mathe-2-0@tickets.fachschaft-wiwi.ms
DTSTART;TZID=Europe/Berlin:20230720T180000
DTEND;TZID=Europe/Berlin:20230720T200000
DESCRIPTION:Tickets: https://tickets.fachschaft-wiwi.ms/fag/sose22-mathe-2/
 \nVeranstalter: Wirtschaftswissenschaftliche Ferienarbeitsgemeinschaften e
 .V.
DTSTAMP:20260426T000419Z
LOCATION:SP7 außer am 20.07 (H3)
SUMMARY:SS23 - Mathematik
END:VEVENT
END:VCALENDAR
