BEGIN:VCALENDAR
VERSION:2.0
PRODID:-//pretix//tickets.fachschaft-wiwi.ms//
BEGIN:VTIMEZONE
TZID:Europe/Berlin
BEGIN:STANDARD
DTSTART:20001029T040000
RRULE:FREQ=YEARLY;BYDAY=-1SU;BYMONTH=10
TZNAME:CET
TZOFFSETFROM:+0200
TZOFFSETTO:+0100
END:STANDARD
BEGIN:DAYLIGHT
DTSTART:20000326T030000
RRULE:FREQ=YEARLY;BYDAY=-1SU;BYMONTH=3
TZNAME:CEST
TZOFFSETFROM:+0100
TZOFFSETTO:+0200
END:DAYLIGHT
END:VTIMEZONE
BEGIN:VEVENT
UID:pretix-fag-sose22-bwl2-0@tickets.fachschaft-wiwi.ms
DTSTART;TZID=Europe/Berlin:20220627T180000
DTEND;TZID=Europe/Berlin:20220715T214500
DESCRIPTION:Tickets: https://tickets.fachschaft-wiwi.ms/fag/sose22-bwl2/\nV
 eranstalter: Wirtschaftswissenschaftliche Ferienarbeitsgemeinschaften e.V.
DTSTAMP:20260426T023223Z
LOCATION:Hörsaal Audimax nur einmalig für den ersten Termin. Alle folgend
 en Termine finden im F1 (Fürstenberghaus) oder per Zoom statt!
SUMMARY:BWL 2
END:VEVENT
END:VCALENDAR
