BEGIN:VCALENDAR
VERSION:2.0
PRODID:-//pretix//tickets.fachschaft-wiwi.ms//
BEGIN:VTIMEZONE
TZID:Europe/Berlin
BEGIN:STANDARD
DTSTART:20001029T040000
RRULE:FREQ=YEARLY;BYDAY=-1SU;BYMONTH=10
TZNAME:CET
TZOFFSETFROM:+0200
TZOFFSETTO:+0100
END:STANDARD
BEGIN:DAYLIGHT
DTSTART:20000326T030000
RRULE:FREQ=YEARLY;BYDAY=-1SU;BYMONTH=3
TZNAME:CEST
TZOFFSETFROM:+0100
TZOFFSETTO:+0200
END:DAYLIGHT
END:VTIMEZONE
BEGIN:VEVENT
UID:pretix-fag-mikro1-0@tickets.fachschaft-wiwi.ms
DTSTART;TZID=Europe/Berlin:20211201T180000
DTEND;TZID=Europe/Berlin:20211201T211500
DESCRIPTION:Tickets: https://tickets.fachschaft-wiwi.ms/fag/mikro1/\nVerans
 talter: Wirtschaftswissenschaftliche Ferienarbeitsgemeinschaften e.V.
DTSTAMP:20260426T012301Z
LOCATION:Findet über Zoom statt - 01.12\, 03.12\, 06.12\,07.12 \, 09.12
SUMMARY:FAG - Mikroökonomik 1
END:VEVENT
END:VCALENDAR
