BEGIN:VCALENDAR
VERSION:2.0
PRODID:-//pretix//tickets.fachschaft-wiwi.ms//
BEGIN:VTIMEZONE
TZID:Europe/Berlin
BEGIN:STANDARD
DTSTART:20001029T040000
RRULE:FREQ=YEARLY;BYDAY=-1SU;BYMONTH=10
TZNAME:CET
TZOFFSETFROM:+0200
TZOFFSETTO:+0100
END:STANDARD
BEGIN:DAYLIGHT
DTSTART:20000326T030000
RRULE:FREQ=YEARLY;BYDAY=-1SU;BYMONTH=3
TZNAME:CEST
TZOFFSETFROM:+0100
TZOFFSETTO:+0200
END:DAYLIGHT
END:VTIMEZONE
BEGIN:VEVENT
UID:pretix-fag-mathe-0@tickets.fachschaft-wiwi.ms
DTSTART;TZID=Europe/Berlin:20220124T160000
DTEND;TZID=Europe/Berlin:20220124T193000
DESCRIPTION:Tickets: https://tickets.fachschaft-wiwi.ms/fag/mathe/\nVeranst
 alter: Wirtschaftswissenschaftliche Ferienarbeitsgemeinschaften e.V.
DTSTAMP:20260426T012256Z
LOCATION:24.01\,25.01 finden im AudiMax statt\, 26.01 findet im SCH 109.6 s
 tatt\, 27.01 findet im SP 7 (Hof) statt\, 28.01 findet im AudiMax statt
SUMMARY:FAG - Mathematik
END:VEVENT
END:VCALENDAR
