BEGIN:VCALENDAR
VERSION:2.0
PRODID:-//pretix//tickets.fachschaft-wiwi.ms//
BEGIN:VTIMEZONE
TZID:Europe/Berlin
BEGIN:STANDARD
DTSTART:20001029T040000
RRULE:FREQ=YEARLY;BYDAY=-1SU;BYMONTH=10
TZNAME:CET
TZOFFSETFROM:+0200
TZOFFSETTO:+0100
END:STANDARD
BEGIN:DAYLIGHT
DTSTART:20000326T030000
RRULE:FREQ=YEARLY;BYDAY=-1SU;BYMONTH=3
TZNAME:CEST
TZOFFSETFROM:+0100
TZOFFSETTO:+0200
END:DAYLIGHT
END:VTIMEZONE
BEGIN:VEVENT
UID:pretix-fag-controlling-0@tickets.fachschaft-wiwi.ms
DTSTART;TZID=Europe/Berlin:20260205T180000
DTEND;TZID=Europe/Berlin:20260205T190000
DESCRIPTION:Tickets: https://tickets.fachschaft-wiwi.ms/fag/controlling/\nV
 eranstalter: Wirtschaftswissenschaftliche Ferienarbeitsgemeinschaften e.V.
DTSTAMP:20260426T000104Z
LOCATION:Do. 05.02.26 18:00 – 21:15 Uhr S10\, Fr. 06.02.26 18:00 – 21:1
 5 Uhr JUR 4\, Mi. 18.02.26 18:00 – 21:15 Uhr\, Do. 19.02.26 18:00 – 21
 :15 Uhr  JUR 4\, Fr. 20.02.26 18:00 – 21:15 Uhr JUR 4
SUMMARY:WS25/26 - Controlling
END:VEVENT
END:VCALENDAR
