BEGIN:VCALENDAR
VERSION:2.0
PRODID:-//pretix//tickets.fachschaft-wiwi.ms//
BEGIN:VTIMEZONE
TZID:Europe/Berlin
BEGIN:STANDARD
DTSTART:20001029T040000
RRULE:FREQ=YEARLY;BYDAY=-1SU;BYMONTH=10
TZNAME:CET
TZOFFSETFROM:+0200
TZOFFSETTO:+0100
END:STANDARD
BEGIN:DAYLIGHT
DTSTART:20000326T030000
RRULE:FREQ=YEARLY;BYDAY=-1SU;BYMONTH=3
TZNAME:CEST
TZOFFSETFROM:+0100
TZOFFSETTO:+0200
END:DAYLIGHT
END:VTIMEZONE
BEGIN:VEVENT
UID:pretix-fag-WiSe2425-mikro-2-0@tickets.fachschaft-wiwi.ms
DTSTART;TZID=Europe/Berlin:20250206T180000
DTEND;TZID=Europe/Berlin:20250212T211500
DESCRIPTION:Tickets: https://tickets.fachschaft-wiwi.ms/fag/WiSe2425-mikro-
 2/\nVeranstalter: Wirtschaftswissenschaftliche Ferienarbeitsgemeinschaften
  e.V.
DTSTAMP:20260426T000242Z
LOCATION:Do 06.02. 18.00-21.15 H3\, Fr 07.02. 18.00-21.15 H3\, Mo 10.02. 18
 .00-21.15 H3\, Di 11.02. 18.00-21.15 H3\, Mi 12.02. 18.00-21.15  H3
SUMMARY:WiSe24/25_Mikroökonomik1
END:VEVENT
END:VCALENDAR
