BEGIN:VCALENDAR
VERSION:2.0
PRODID:-//pretix//tickets.fachschaft-wiwi.ms//
BEGIN:VTIMEZONE
TZID:Europe/Berlin
BEGIN:STANDARD
DTSTART:20001029T040000
RRULE:FREQ=YEARLY;BYDAY=-1SU;BYMONTH=10
TZNAME:CET
TZOFFSETFROM:+0200
TZOFFSETTO:+0100
END:STANDARD
BEGIN:DAYLIGHT
DTSTART:20000326T030000
RRULE:FREQ=YEARLY;BYDAY=-1SU;BYMONTH=3
TZNAME:CEST
TZOFFSETFROM:+0100
TZOFFSETTO:+0200
END:DAYLIGHT
END:VTIMEZONE
BEGIN:VEVENT
UID:pretix-fag-WiSe24-mathe-4-0@tickets.fachschaft-wiwi.ms
DTSTART;TZID=Europe/Berlin:20250113T180000
DTEND;TZID=Europe/Berlin:20250117T211500
DESCRIPTION:Tickets: https://tickets.fachschaft-wiwi.ms/fag/WiSe24-mathe-4/
 \nVeranstalter: Wirtschaftswissenschaftliche Ferienarbeitsgemeinschaften e
 .V.
DTSTAMP:20260426T000330Z
LOCATION:Mo 13.01. 18.00-21.15 F1\, Di 14.01. 18.00-21.15 AudiMax\, Mi 15.0
 1. 18.00-21.15 F1\, Do 16.01. 18.00-21.15 F1\, Fr 17.01. 18.00-21.15 F1
SUMMARY:WiSe24/25 - Mathematik
END:VEVENT
END:VCALENDAR
