BEGIN:VCALENDAR
VERSION:2.0
PRODID:-//pretix//tickets.fachschaft-wiwi.ms//
BEGIN:VTIMEZONE
TZID:Europe/Berlin
BEGIN:STANDARD
DTSTART:20001029T040000
RRULE:FREQ=YEARLY;BYDAY=-1SU;BYMONTH=10
TZNAME:CET
TZOFFSETFROM:+0200
TZOFFSETTO:+0100
END:STANDARD
BEGIN:DAYLIGHT
DTSTART:20000326T030000
RRULE:FREQ=YEARLY;BYDAY=-1SU;BYMONTH=3
TZNAME:CEST
TZOFFSETFROM:+0100
TZOFFSETTO:+0200
END:DAYLIGHT
END:VTIMEZONE
BEGIN:VEVENT
UID:pretix-fag-WiSe24-ds2-3-0@tickets.fachschaft-wiwi.ms
DTSTART;TZID=Europe/Berlin:20250115T180000
DTEND;TZID=Europe/Berlin:20250122T211500
DESCRIPTION:Tickets: https://tickets.fachschaft-wiwi.ms/fag/WiSe24-ds2-3/\n
 Veranstalter: Wirtschaftswissenschaftliche Ferienarbeitsgemeinschaften e.V
 .
DTSTAMP:20260426T000247Z
LOCATION:Mi 15.01. 18.00-21.15 JUR 4\, Do 16.01. 18.00-21.15 JUR 4\, Fr 17.
 01. 18.00-21.15 JUR 4\, Di 21.01. 18.00-21.15 JUR 4\, Mi 22.01. 18.00-21.1
 5 JUR 4
SUMMARY:WiSe24/25_DataScience2
END:VEVENT
END:VCALENDAR
