BEGIN:VCALENDAR
VERSION:2.0
PRODID:-//pretix//tickets.fachschaft-wiwi.ms//
BEGIN:VTIMEZONE
TZID:Europe/Berlin
BEGIN:STANDARD
DTSTART:20001029T040000
RRULE:FREQ=YEARLY;BYDAY=-1SU;BYMONTH=10
TZNAME:CET
TZOFFSETFROM:+0200
TZOFFSETTO:+0100
END:STANDARD
BEGIN:DAYLIGHT
DTSTART:20000326T030000
RRULE:FREQ=YEARLY;BYDAY=-1SU;BYMONTH=3
TZNAME:CEST
TZOFFSETFROM:+0100
TZOFFSETTO:+0200
END:DAYLIGHT
END:VTIMEZONE
BEGIN:VEVENT
UID:pretix-fag-WS2526-Data2-0@tickets.fachschaft-wiwi.ms
DTSTART;TZID=Europe/Berlin:20260120T180000
DTEND;TZID=Europe/Berlin:20260128T211500
DESCRIPTION:Tickets: https://tickets.fachschaft-wiwi.ms/fag/WS2526-Data2/\n
 Veranstalter: Wirtschaftswissenschaftliche Ferienarbeitsgemeinschaften e.V
 .
DTSTAMP:20260425T234914Z
LOCATION:Di. 20.01. 18:00 – 21:15 Uhr - JUR 4\, Mi. 21.01. 18:00 – 21:1
 5 Uhr - JUR 4\, Do. 22.01. 18:00 – 21:15 Uhr - S 8\, Di. 27.01.18:00 –
  21:15 Uhr - S 10\, Mi. 28.01. 18:00 – 21:15 Uhr - S 8
SUMMARY:WS25/26 - Data2
END:VEVENT
END:VCALENDAR
