BEGIN:VCALENDAR
VERSION:2.0
PRODID:-//pretix//tickets.fachschaft-wiwi.ms//
BEGIN:VTIMEZONE
TZID:Europe/Berlin
BEGIN:STANDARD
DTSTART:20001029T040000
RRULE:FREQ=YEARLY;BYDAY=-1SU;BYMONTH=10
TZNAME:CET
TZOFFSETFROM:+0200
TZOFFSETTO:+0100
END:STANDARD
BEGIN:DAYLIGHT
DTSTART:20000326T030000
RRULE:FREQ=YEARLY;BYDAY=-1SU;BYMONTH=3
TZNAME:CEST
TZOFFSETFROM:+0100
TZOFFSETTO:+0200
END:DAYLIGHT
END:VTIMEZONE
BEGIN:VEVENT
UID:pretix-fag-WS2526-Analysis-0@tickets.fachschaft-wiwi.ms
DTSTART;TZID=Europe/Berlin:20260126T180000
DTEND;TZID=Europe/Berlin:20260130T211500
DESCRIPTION:Tickets: https://tickets.fachschaft-wiwi.ms/fag/WS2526-Analysis
 /\nVeranstalter: Wirtschaftswissenschaftliche Ferienarbeitsgemeinschaften 
 e.V.
DTSTAMP:20260425T234920Z
LOCATION:Mo. 26.01.18:00 – 21:15 Uhr - S 8\, Di. 27.01. 18:00 – 21:15 U
 h - S 8\, Mi. 28.01. 18:00 – 21:15 Uhr - JUR 4\, Do. 29.01. 18:00 – 21
 :15 Uhr - JUR 3\, Fr. 30.01. 18:00 – 21:15 Uhr - JUR 4
SUMMARY:WS25/26 - Analysis für WiWis
END:VEVENT
END:VCALENDAR
