BEGIN:VCALENDAR
VERSION:2.0
PRODID:-//pretix//tickets.fachschaft-wiwi.ms//
BEGIN:VTIMEZONE
TZID:Europe/Berlin
BEGIN:STANDARD
DTSTART:20001029T040000
RRULE:FREQ=YEARLY;BYDAY=-1SU;BYMONTH=10
TZNAME:CET
TZOFFSETFROM:+0200
TZOFFSETTO:+0100
END:STANDARD
BEGIN:DAYLIGHT
DTSTART:20000326T030000
RRULE:FREQ=YEARLY;BYDAY=-1SU;BYMONTH=3
TZNAME:CEST
TZOFFSETFROM:+0100
TZOFFSETTO:+0200
END:DAYLIGHT
END:VTIMEZONE
BEGIN:VEVENT
UID:pretix-fag-SoSe24-mikro-1-0@tickets.fachschaft-wiwi.ms
DTSTART;TZID=Europe/Berlin:20240513T180000
DTEND;TZID=Europe/Berlin:20240517T211500
DESCRIPTION:Tickets: https://tickets.fachschaft-wiwi.ms/fag/SoSe24-mikro-1/
 \nVeranstalter: Wirtschaftswissenschaftliche Ferienarbeitsgemeinschaften e
 .V.
DTSTAMP:20260426T000441Z
LOCATION:Mo 13.05 - S8\, Di 14.05 - S8\, Mi 15.05 - S8\, Do 16.05 - S8\, Fr
  17.05 - S8\, Jeweils von 18:00 Uhr bis 21:15 Uhr\, AUßER Fr 17.05 von 13
 :45-17:00 Uhr)
SUMMARY:SoSe24_Mikroökonomik1
END:VEVENT
END:VCALENDAR
