BEGIN:VCALENDAR
VERSION:2.0
PRODID:-//pretix//tickets.fachschaft-wiwi.ms//
BEGIN:VTIMEZONE
TZID:Europe/Berlin
BEGIN:STANDARD
DTSTART:20001029T040000
RRULE:FREQ=YEARLY;BYDAY=-1SU;BYMONTH=10
TZNAME:CET
TZOFFSETFROM:+0200
TZOFFSETTO:+0100
END:STANDARD
BEGIN:DAYLIGHT
DTSTART:20000326T030000
RRULE:FREQ=YEARLY;BYDAY=-1SU;BYMONTH=3
TZNAME:CEST
TZOFFSETFROM:+0100
TZOFFSETTO:+0200
END:DAYLIGHT
END:VTIMEZONE
BEGIN:VEVENT
UID:pretix-fag-SoSe24-ds2-2-0@tickets.fachschaft-wiwi.ms
DTSTART;TZID=Europe/Berlin:20240429T220000
DTEND;TZID=Europe/Berlin:20240506T211500
DESCRIPTION:Tickets: https://tickets.fachschaft-wiwi.ms/fag/SoSe24-ds2-2/\n
 Veranstalter: Wirtschaftswissenschaftliche Ferienarbeitsgemeinschaften e.V
 .
DTSTAMP:20260426T000303Z
LOCATION:Mo 29.04 - H3\, Di 30.04 - H3\, Do 02.05 - H3 (17:00-20:15 Uhr)\, 
 Fr 03.05 - H3\, Mo 06.05 - H3\, Jeweils von 18.00 Uhr bis 21:15 Uhr\, AUß
 ER: Do\, 02.05\, von 17:00 Uhr bis 20:15 Uhr
SUMMARY:SoSe24_DataScience2
END:VEVENT
END:VCALENDAR
