BEGIN:VCALENDAR
VERSION:2.0
PRODID:-//pretix//tickets.fachschaft-wiwi.ms//
BEGIN:VTIMEZONE
TZID:Europe/Berlin
BEGIN:STANDARD
DTSTART:20001029T040000
RRULE:FREQ=YEARLY;BYDAY=-1SU;BYMONTH=10
TZNAME:CET
TZOFFSETFROM:+0200
TZOFFSETTO:+0100
END:STANDARD
BEGIN:DAYLIGHT
DTSTART:20000326T030000
RRULE:FREQ=YEARLY;BYDAY=-1SU;BYMONTH=3
TZNAME:CEST
TZOFFSETFROM:+0100
TZOFFSETTO:+0200
END:DAYLIGHT
END:VTIMEZONE
BEGIN:VEVENT
UID:pretix-fag-SS25-Mikro1-0@tickets.fachschaft-wiwi.ms
DTSTART;TZID=Europe/Berlin:20250519T180000
DTEND;TZID=Europe/Berlin:20250528T211500
DESCRIPTION:Tickets: https://tickets.fachschaft-wiwi.ms/fag/SS25-Mikro1/\nV
 eranstalter: Wirtschaftswissenschaftliche Ferienarbeitsgemeinschaften e.V.
DTSTAMP:20260426T000303Z
LOCATION:Mo 19.05 18.00 - 21.15 JUR2\, Di 20.05. 18.00 - 21.15 JUR4\, Mo 26
 .05. 18.00 - 21.15 JUR4\, Di 27.05. 18.00 - 21.15 JUR2\, Mi 28.05. 18.00 -
  21.15 JUR1
SUMMARY:SS25 - Mikroökonomik 1
END:VEVENT
END:VCALENDAR
