BEGIN:VCALENDAR
VERSION:2.0
PRODID:-//pretix//tickets.fachschaft-wiwi.ms//
BEGIN:VTIMEZONE
TZID:Europe/Berlin
BEGIN:STANDARD
DTSTART:20001029T040000
RRULE:FREQ=YEARLY;BYDAY=-1SU;BYMONTH=10
TZNAME:CET
TZOFFSETFROM:+0200
TZOFFSETTO:+0100
END:STANDARD
BEGIN:DAYLIGHT
DTSTART:20000326T030000
RRULE:FREQ=YEARLY;BYDAY=-1SU;BYMONTH=3
TZNAME:CEST
TZOFFSETFROM:+0100
TZOFFSETTO:+0200
END:DAYLIGHT
END:VTIMEZONE
BEGIN:VEVENT
UID:pretix-fag-SS25-Mathe1-0@tickets.fachschaft-wiwi.ms
DTSTART;TZID=Europe/Berlin:20250704T180000
DTEND;TZID=Europe/Berlin:20250716T211500
DESCRIPTION:Tickets: https://tickets.fachschaft-wiwi.ms/fag/SS25-Mathe1/\nV
 eranstalter: Wirtschaftswissenschaftliche Ferienarbeitsgemeinschaften e.V.
DTSTAMP:20260425T235027Z
LOCATION:Fr 04.07. 18.00 - 21.15 JUR4\, Mi 09.07. 18.00 - 21.15 JUR4\, Do 1
 0.07. 18.00 - 21.15 JUR4\, Fr 11.07. 18.00 - 21.15 S8\, Mi 16.07. 18.00 - 
 21.15 JUR4
SUMMARY:SS25 - Mathematik1
END:VEVENT
END:VCALENDAR
