BEGIN:VCALENDAR
VERSION:2.0
PRODID:-//pretix//tickets.fachschaft-wiwi.ms//
BEGIN:VTIMEZONE
TZID:Europe/Berlin
BEGIN:STANDARD
DTSTART:20001029T040000
RRULE:FREQ=YEARLY;BYDAY=-1SU;BYMONTH=10
TZNAME:CET
TZOFFSETFROM:+0200
TZOFFSETTO:+0100
END:STANDARD
BEGIN:DAYLIGHT
DTSTART:20000326T030000
RRULE:FREQ=YEARLY;BYDAY=-1SU;BYMONTH=3
TZNAME:CEST
TZOFFSETFROM:+0100
TZOFFSETTO:+0200
END:DAYLIGHT
END:VTIMEZONE
BEGIN:VEVENT
UID:pretix-fag-SS25-Data2-0@tickets.fachschaft-wiwi.ms
DTSTART;TZID=Europe/Berlin:20250512T180000
DTEND;TZID=Europe/Berlin:20250526T211500
DESCRIPTION:Tickets: https://tickets.fachschaft-wiwi.ms/fag/SS25-Data2/\nVe
 ranstalter: Wirtschaftswissenschaftliche Ferienarbeitsgemeinschaften e.V.
DTSTAMP:20260425T234859Z
LOCATION:Mo 12.05 18.00 - 21.15 JUR2\, Mi 14.05. 18.00 - 21.15 JUR2\, Do 15
 .05. 17.00 - 20.15 JUR2\, Fr 16.05. 18.00 - 21.15 JUR2\, Mo 26.05. 18.00 -
  21.15 JUR2
SUMMARY:SS25 - Data Science 2
END:VEVENT
END:VCALENDAR
