BEGIN:VCALENDAR
VERSION:2.0
PRODID:-//pretix//tickets.fachschaft-wiwi.ms//
BEGIN:VTIMEZONE
TZID:Europe/Berlin
BEGIN:STANDARD
DTSTART:20001029T040000
RRULE:FREQ=YEARLY;BYDAY=-1SU;BYMONTH=10
TZNAME:CET
TZOFFSETFROM:+0200
TZOFFSETTO:+0100
END:STANDARD
BEGIN:DAYLIGHT
DTSTART:20000326T030000
RRULE:FREQ=YEARLY;BYDAY=-1SU;BYMONTH=3
TZNAME:CEST
TZOFFSETFROM:+0100
TZOFFSETTO:+0200
END:DAYLIGHT
END:VTIMEZONE
BEGIN:VEVENT
UID:pretix-fag-SS25-BWL2-0@tickets.fachschaft-wiwi.ms
DTSTART;TZID=Europe/Berlin:20250717T180000
DTEND;TZID=Europe/Berlin:20250725T191500
DESCRIPTION:Tickets: https://tickets.fachschaft-wiwi.ms/fag/SS25-BWL2/\nVer
 anstalter: Wirtschaftswissenschaftliche Ferienarbeitsgemeinschaften e.V.
DTSTAMP:20260426T000242Z
LOCATION:Do 17.07. 18.00 - 21.15 JUR4\, Fr 18.07. 16.00 - 19.15 JUR4\, Mi 2
 3.07. 18.00 - 21.15 JUR4\, Do 24.07. 18.00 - 21.15 JUR4\, Fr 25.07. 16.00 
 - 19.15 JUR4
SUMMARY:SS25 - BWL2
END:VEVENT
END:VCALENDAR
